BEGIN:VCALENDAR
VERSION:2.0
PRODID:-//jEvents 2.0 for Joomla//EN
CALSCALE:GREGORIAN
METHOD:PUBLISH
BEGIN:VTIMEZONE
TZID:Europe/Zurich
BEGIN:STANDARD
DTSTART:20151025T020000
RDATE:20160327T030000
TZOFFSETFROM:+0200
TZOFFSETTO:+0100
TZNAME:Europe/Zurich CET
END:STANDARD
BEGIN:STANDARD
DTSTART:20161030T020000
RDATE:20170326T030000
TZOFFSETFROM:+0200
TZOFFSETTO:+0100
TZNAME:Europe/Zurich CET
END:STANDARD
BEGIN:STANDARD
DTSTART:20171029T020000
RDATE:20180325T030000
TZOFFSETFROM:+0200
TZOFFSETTO:+0100
TZNAME:Europe/Zurich CET
END:STANDARD
BEGIN:STANDARD
DTSTART:20181028T020000
RDATE:20190331T030000
TZOFFSETFROM:+0200
TZOFFSETTO:+0100
TZNAME:Europe/Zurich CET
END:STANDARD
BEGIN:STANDARD
DTSTART:20191027T020000
RDATE:20200329T030000
TZOFFSETFROM:+0200
TZOFFSETTO:+0100
TZNAME:Europe/Zurich CET
END:STANDARD
BEGIN:STANDARD
DTSTART:20201025T020000
RDATE:20210328T030000
TZOFFSETFROM:+0200
TZOFFSETTO:+0100
TZNAME:Europe/Zurich CET
END:STANDARD
BEGIN:STANDARD
DTSTART:20211031T020000
RDATE:20220327T030000
TZOFFSETFROM:+0200
TZOFFSETTO:+0100
TZNAME:Europe/Zurich CET
END:STANDARD
BEGIN:STANDARD
DTSTART:20221030T020000
RDATE:20230326T030000
TZOFFSETFROM:+0200
TZOFFSETTO:+0100
TZNAME:Europe/Zurich CET
END:STANDARD
BEGIN:STANDARD
DTSTART:20231029T020000
RDATE:20240331T030000
TZOFFSETFROM:+0200
TZOFFSETTO:+0100
TZNAME:Europe/Zurich CET
END:STANDARD
BEGIN:STANDARD
DTSTART:20241027T020000
RDATE:20250330T030000
TZOFFSETFROM:+0200
TZOFFSETTO:+0100
TZNAME:Europe/Zurich CET
END:STANDARD
BEGIN:STANDARD
DTSTART:20251026T020000
RDATE:20260329T030000
TZOFFSETFROM:+0200
TZOFFSETTO:+0100
TZNAME:Europe/Zurich CET
END:STANDARD
BEGIN:STANDARD
DTSTART:20261025T020000
RDATE:20270328T030000
TZOFFSETFROM:+0200
TZOFFSETTO:+0100
TZNAME:Europe/Zurich CET
END:STANDARD
BEGIN:STANDARD
DTSTART:20271031T020000
RDATE:20280326T030000
TZOFFSETFROM:+0200
TZOFFSETTO:+0100
TZNAME:Europe/Zurich CET
END:STANDARD
BEGIN:STANDARD
DTSTART:20281029T020000
RDATE:20290325T030000
TZOFFSETFROM:+0200
TZOFFSETTO:+0100
TZNAME:Europe/Zurich CET
END:STANDARD
BEGIN:STANDARD
DTSTART:20291028T020000
RDATE:20300331T030000
TZOFFSETFROM:+0200
TZOFFSETTO:+0100
TZNAME:Europe/Zurich CET
END:STANDARD
BEGIN:STANDARD
DTSTART:20301027T020000
RDATE:20310330T030000
TZOFFSETFROM:+0200
TZOFFSETTO:+0100
TZNAME:Europe/Zurich CET
END:STANDARD
BEGIN:DAYLIGHT
DTSTART:20150604T100000
RDATE:20151025T020000
TZOFFSETFROM:+0100
TZOFFSETTO:+0200
TZNAME:Europe/Zurich CEST
END:DAYLIGHT
BEGIN:DAYLIGHT
DTSTART:20160327T030000
RDATE:20161030T020000
TZOFFSETFROM:+0100
TZOFFSETTO:+0200
TZNAME:Europe/Zurich CEST
END:DAYLIGHT
BEGIN:DAYLIGHT
DTSTART:20170326T030000
RDATE:20171029T020000
TZOFFSETFROM:+0100
TZOFFSETTO:+0200
TZNAME:Europe/Zurich CEST
END:DAYLIGHT
BEGIN:DAYLIGHT
DTSTART:20180325T030000
RDATE:20181028T020000
TZOFFSETFROM:+0100
TZOFFSETTO:+0200
TZNAME:Europe/Zurich CEST
END:DAYLIGHT
BEGIN:DAYLIGHT
DTSTART:20190331T030000
RDATE:20191027T020000
TZOFFSETFROM:+0100
TZOFFSETTO:+0200
TZNAME:Europe/Zurich CEST
END:DAYLIGHT
BEGIN:DAYLIGHT
DTSTART:20200329T030000
RDATE:20201025T020000
TZOFFSETFROM:+0100
TZOFFSETTO:+0200
TZNAME:Europe/Zurich CEST
END:DAYLIGHT
BEGIN:DAYLIGHT
DTSTART:20210328T030000
RDATE:20211031T020000
TZOFFSETFROM:+0100
TZOFFSETTO:+0200
TZNAME:Europe/Zurich CEST
END:DAYLIGHT
BEGIN:DAYLIGHT
DTSTART:20220327T030000
RDATE:20221030T020000
TZOFFSETFROM:+0100
TZOFFSETTO:+0200
TZNAME:Europe/Zurich CEST
END:DAYLIGHT
BEGIN:DAYLIGHT
DTSTART:20230326T030000
RDATE:20231029T020000
TZOFFSETFROM:+0100
TZOFFSETTO:+0200
TZNAME:Europe/Zurich CEST
END:DAYLIGHT
BEGIN:DAYLIGHT
DTSTART:20240331T030000
RDATE:20241027T020000
TZOFFSETFROM:+0100
TZOFFSETTO:+0200
TZNAME:Europe/Zurich CEST
END:DAYLIGHT
BEGIN:DAYLIGHT
DTSTART:20250330T030000
RDATE:20251026T020000
TZOFFSETFROM:+0100
TZOFFSETTO:+0200
TZNAME:Europe/Zurich CEST
END:DAYLIGHT
BEGIN:DAYLIGHT
DTSTART:20260329T030000
RDATE:20261025T020000
TZOFFSETFROM:+0100
TZOFFSETTO:+0200
TZNAME:Europe/Zurich CEST
END:DAYLIGHT
BEGIN:DAYLIGHT
DTSTART:20270328T030000
RDATE:20271031T020000
TZOFFSETFROM:+0100
TZOFFSETTO:+0200
TZNAME:Europe/Zurich CEST
END:DAYLIGHT
BEGIN:DAYLIGHT
DTSTART:20280326T030000
RDATE:20281029T020000
TZOFFSETFROM:+0100
TZOFFSETTO:+0200
TZNAME:Europe/Zurich CEST
END:DAYLIGHT
BEGIN:DAYLIGHT
DTSTART:20290325T030000
RDATE:20291028T020000
TZOFFSETFROM:+0100
TZOFFSETTO:+0200
TZNAME:Europe/Zurich CEST
END:DAYLIGHT
BEGIN:DAYLIGHT
DTSTART:20300331T030000
RDATE:20301027T020000
TZOFFSETFROM:+0100
TZOFFSETTO:+0200
TZNAME:Europe/Zurich CEST
END:DAYLIGHT
END:VTIMEZONE
BEGIN:VEVENT
UID:79156b837e2fd88b5525c86b0c22ef1b
CATEGORIES:Plauschturniere
CREATED:20160112T101334
SUMMARY:Lumberjacks Cup 2016
LOCATION:Rohrdorf
URL;VALUE=URI:https://www.swiss-1291.ch/events/Eventdetail/35/-/lumberjacks-cup-2016?tmpl
 =component
DESCRIPTION:<p style="margin: 0px 0px 15px; padding: 0px; color: #666666; font-family: 
 Arial, Verdana; font-size: 12.8px; line-height: 19.2px;"><span style="font-
 family: arial, helvetica, sans-serif;"><strong><span style="font-size: 10pt
 ;">Kategorie</span></strong><span style="font-size: 10pt;">: Herren Großfel
 d</span></span></p><p style="margin: 0px 0px 15px; padding: 0px; color: #66
 6666; font-family: Arial, Verdana; font-size: 12.8px; line-height: 19.2px;"
 ><span style="font-family: arial, helvetica, sans-serif;"><strong><span sty
 le="font-size: 10pt;">Datum</span></strong><span style="font-size: 10pt;">:
  4. Juni / 5. Juni 2016</span></span></p><p style="margin: 0px 0px 15px; pa
 dding: 0px; color: #666666; font-family: Arial, Verdana; font-size: 12.8px;
  line-height: 19.2px;"><span style="font-family: arial, helvetica, sans-ser
 if;"><strong><span style="font-size: 10pt;">Austragungsorte</span></strong>
 <span style="font-size: 10pt;">: Rohrdorf und Raubling, Bayern </span></spa
 n></p><p style="margin: 0px 0px 15px; padding: 0px; color: #666666; font-fa
 mily: Arial, Verdana; font-size: 12.8px; line-height: 19.2px;"><span style=
 "font-family: arial, helvetica, sans-serif;"><strong><span style="font-size
 : 10pt;">Ausrichter</span></strong><span style="font-size: 10pt;">: Lumberj
 acks Rohrdorf</span></span></p><p style="margin: 0px 0px 15px; padding: 0px
 ; color: #666666; font-family: Arial, Verdana; font-size: 12.8px; line-heig
 ht: 19.2px;"><span style="font-family: arial, helvetica, sans-serif;"><stro
 ng><span style="font-size: 10pt;">Teilnahmegebühr</span></strong><span styl
 e="font-size: 10pt;">: 190.- Euro pro Team. Wir wollen nach Möglichkeit all
 e interessierten Mannschaften am Lumberjacks Cup teilnehmen lassen, maximal
  können 16 Teams antreten. </span></span></p><p style="margin: 0px 0px 15px
 ; padding: 0px; color: #666666; font-family: Arial, Verdana; font-size: 12.
 8px; line-height: 19.2px;"><span style="font-family: arial, helvetica, sans
 -serif;"><strong><span style="font-size: 10pt;">Anmeldeschluss</span></stro
 ng><span style="font-size: 10pt;">: 30. April 2016</span></span></p><p styl
 e="margin: 0px 0px 15px; padding: 0px; color: #666666; font-family: Arial, 
 Verdana; font-size: 12.8px; line-height: 19.2px;"><span style="font-family:
  arial, helvetica, sans-serif;"><strong><span style="font-size: 10pt;">Zeit
 plan</span></strong><span style="font-size: 10pt;">(ohne Gewähr): Das Turni
 er beginnt am 4. Juni um 10.00 Uhr, das letzte Spiel an diesem Tag endetgeg
 en 19.00 Uhr. Im Anschluss an das letzte Spiel beginnt das Grillfest. Am So
 nntag wird das erste Spiel um 9.00 Uhr angepfiffen. Siegerehrung ist gegen 
 15.30 Uhr.</span></span></p><p style="margin: 0px 0px 15px; padding: 0px; c
 olor: #666666; font-family: Arial, Verdana; font-size: 12.8px; line-height:
  19.2px;"><span style="font-family: arial, helvetica, sans-serif;"><strong>
 <span style="font-size: 10pt;">Verpflegung</span></strong><span style="font
 -size: 10pt;">: In beiden Hallen gibt es einen Verkaufsstand. Dort sind Get
 ränke, Brotzeit Kuchen, Obst sowie Süßigkeiten erhältlich.</span></span></p
 ><p style="margin: 0px 0px 5px; padding: 0px; color: #666666; font-family: 
 Arial, Verdana; font-size: 12.8px; line-height: 19.2px;"><span style="font-
 family: arial, helvetica, sans-serif;"><strong><span style="font-size: 10pt
 ;">Versicherung</span></strong><span style="font-size: 10pt;">: Alle Teilne
 hmer müssen sich selbst um ihren Versicherungsschutz kümmern. Der Ausrichte
 r des Turniers bietet keinen solchen an und ist nicht haftbar im Falle von 
 Verletzungen, Krankheit, Diebstahl oder Sachbeschädigung.</span></span></p>
  <a href="https://www.swiss-1291.ch/events/Eventdetail/35/-/lumberjacks-cup
 -2016?tmpl=component">Dieser Event wurde importiert von: https://www.swiss-
 1291.ch/events/Eventdetail/35/-/lumberjacks-cup-2016?tmpl=component</a>
CONTACT:http://www.lumberjacks-cup.de
X-EXTRAINFO:Grossfeld Turnier
DTSTAMP:20260419T173815
DTSTART;TZID=Europe/Zurich:20160604T100000
DTEND;TZID=Europe/Zurich:20160605T200000
SEQUENCE:0
TRANSP:OPAQUE
END:VEVENT
END:VCALENDAR