BEGIN:VCALENDAR
VERSION:2.0
PRODID:-//jEvents 2.0 for Joomla//EN
CALSCALE:GREGORIAN
METHOD:PUBLISH
BEGIN:VTIMEZONE
TZID:Europe/Zurich
BEGIN:STANDARD
DTSTART:20161030T020000
RDATE:20170326T030000
TZOFFSETFROM:+0200
TZOFFSETTO:+0100
TZNAME:Europe/Zurich CET
END:STANDARD
BEGIN:STANDARD
DTSTART:20171029T020000
RDATE:20180325T030000
TZOFFSETFROM:+0200
TZOFFSETTO:+0100
TZNAME:Europe/Zurich CET
END:STANDARD
BEGIN:STANDARD
DTSTART:20181028T020000
RDATE:20190331T030000
TZOFFSETFROM:+0200
TZOFFSETTO:+0100
TZNAME:Europe/Zurich CET
END:STANDARD
BEGIN:STANDARD
DTSTART:20191027T020000
RDATE:20200329T030000
TZOFFSETFROM:+0200
TZOFFSETTO:+0100
TZNAME:Europe/Zurich CET
END:STANDARD
BEGIN:STANDARD
DTSTART:20201025T020000
RDATE:20210328T030000
TZOFFSETFROM:+0200
TZOFFSETTO:+0100
TZNAME:Europe/Zurich CET
END:STANDARD
BEGIN:STANDARD
DTSTART:20211031T020000
RDATE:20220327T030000
TZOFFSETFROM:+0200
TZOFFSETTO:+0100
TZNAME:Europe/Zurich CET
END:STANDARD
BEGIN:STANDARD
DTSTART:20221030T020000
RDATE:20230326T030000
TZOFFSETFROM:+0200
TZOFFSETTO:+0100
TZNAME:Europe/Zurich CET
END:STANDARD
BEGIN:STANDARD
DTSTART:20231029T020000
RDATE:20240331T030000
TZOFFSETFROM:+0200
TZOFFSETTO:+0100
TZNAME:Europe/Zurich CET
END:STANDARD
BEGIN:STANDARD
DTSTART:20241027T020000
RDATE:20250330T030000
TZOFFSETFROM:+0200
TZOFFSETTO:+0100
TZNAME:Europe/Zurich CET
END:STANDARD
BEGIN:STANDARD
DTSTART:20251026T020000
RDATE:20260329T030000
TZOFFSETFROM:+0200
TZOFFSETTO:+0100
TZNAME:Europe/Zurich CET
END:STANDARD
BEGIN:STANDARD
DTSTART:20261025T020000
RDATE:20270328T030000
TZOFFSETFROM:+0200
TZOFFSETTO:+0100
TZNAME:Europe/Zurich CET
END:STANDARD
BEGIN:STANDARD
DTSTART:20271031T020000
RDATE:20280326T030000
TZOFFSETFROM:+0200
TZOFFSETTO:+0100
TZNAME:Europe/Zurich CET
END:STANDARD
BEGIN:STANDARD
DTSTART:20281029T020000
RDATE:20290325T030000
TZOFFSETFROM:+0200
TZOFFSETTO:+0100
TZNAME:Europe/Zurich CET
END:STANDARD
BEGIN:STANDARD
DTSTART:20291028T020000
RDATE:20300331T030000
TZOFFSETFROM:+0200
TZOFFSETTO:+0100
TZNAME:Europe/Zurich CET
END:STANDARD
BEGIN:STANDARD
DTSTART:20301027T020000
RDATE:20310330T030000
TZOFFSETFROM:+0200
TZOFFSETTO:+0100
TZNAME:Europe/Zurich CET
END:STANDARD
BEGIN:DAYLIGHT
DTSTART:20160519T050000
RDATE:20161030T020000
TZOFFSETFROM:+0100
TZOFFSETTO:+0200
TZNAME:Europe/Zurich CEST
END:DAYLIGHT
BEGIN:DAYLIGHT
DTSTART:20170326T030000
RDATE:20171029T020000
TZOFFSETFROM:+0100
TZOFFSETTO:+0200
TZNAME:Europe/Zurich CEST
END:DAYLIGHT
BEGIN:DAYLIGHT
DTSTART:20180325T030000
RDATE:20181028T020000
TZOFFSETFROM:+0100
TZOFFSETTO:+0200
TZNAME:Europe/Zurich CEST
END:DAYLIGHT
BEGIN:DAYLIGHT
DTSTART:20190331T030000
RDATE:20191027T020000
TZOFFSETFROM:+0100
TZOFFSETTO:+0200
TZNAME:Europe/Zurich CEST
END:DAYLIGHT
BEGIN:DAYLIGHT
DTSTART:20200329T030000
RDATE:20201025T020000
TZOFFSETFROM:+0100
TZOFFSETTO:+0200
TZNAME:Europe/Zurich CEST
END:DAYLIGHT
BEGIN:DAYLIGHT
DTSTART:20210328T030000
RDATE:20211031T020000
TZOFFSETFROM:+0100
TZOFFSETTO:+0200
TZNAME:Europe/Zurich CEST
END:DAYLIGHT
BEGIN:DAYLIGHT
DTSTART:20220327T030000
RDATE:20221030T020000
TZOFFSETFROM:+0100
TZOFFSETTO:+0200
TZNAME:Europe/Zurich CEST
END:DAYLIGHT
BEGIN:DAYLIGHT
DTSTART:20230326T030000
RDATE:20231029T020000
TZOFFSETFROM:+0100
TZOFFSETTO:+0200
TZNAME:Europe/Zurich CEST
END:DAYLIGHT
BEGIN:DAYLIGHT
DTSTART:20240331T030000
RDATE:20241027T020000
TZOFFSETFROM:+0100
TZOFFSETTO:+0200
TZNAME:Europe/Zurich CEST
END:DAYLIGHT
BEGIN:DAYLIGHT
DTSTART:20250330T030000
RDATE:20251026T020000
TZOFFSETFROM:+0100
TZOFFSETTO:+0200
TZNAME:Europe/Zurich CEST
END:DAYLIGHT
BEGIN:DAYLIGHT
DTSTART:20260329T030000
RDATE:20261025T020000
TZOFFSETFROM:+0100
TZOFFSETTO:+0200
TZNAME:Europe/Zurich CEST
END:DAYLIGHT
BEGIN:DAYLIGHT
DTSTART:20270328T030000
RDATE:20271031T020000
TZOFFSETFROM:+0100
TZOFFSETTO:+0200
TZNAME:Europe/Zurich CEST
END:DAYLIGHT
BEGIN:DAYLIGHT
DTSTART:20280326T030000
RDATE:20281029T020000
TZOFFSETFROM:+0100
TZOFFSETTO:+0200
TZNAME:Europe/Zurich CEST
END:DAYLIGHT
BEGIN:DAYLIGHT
DTSTART:20290325T030000
RDATE:20291028T020000
TZOFFSETFROM:+0100
TZOFFSETTO:+0200
TZNAME:Europe/Zurich CEST
END:DAYLIGHT
BEGIN:DAYLIGHT
DTSTART:20300331T030000
RDATE:20301027T020000
TZOFFSETFROM:+0100
TZOFFSETTO:+0200
TZNAME:Europe/Zurich CEST
END:DAYLIGHT
END:VTIMEZONE
BEGIN:VEVENT
UID:53c6eadabd64e27f56d3dfdd9a88a8a1
CATEGORIES:Plauschturniere
CREATED:20170317T133130
SUMMARY:Lumberjacks Cup 2017
LOCATION:Rohrdorf
URL;VALUE=URI:https://www.swiss-1291.ch/events/Eventdetail/44/-/lumberjacks-cup-2017?tmpl
 =component
DESCRIPTION:<p style="margin: 0px 0px 15px; padding: 0px; color: #666666; font-family: 
 Arial, Verdana; font-size: 12.8px;"><span style="font-family: arial, helvet
 ica, sans-serif;"><strong><span style="font-size: 10pt;">Kategorie</span></
 strong><span style="font-size: 10pt;">: Herren Großfeld</span></span></p><p
  style="margin: 0px 0px 15px; padding: 0px; color: #666666; font-family: Ar
 ial, Verdana; font-size: 12.8px;"><span style="font-family: arial, helvetic
 a, sans-serif;"><strong><span style="font-size: 10pt;">Datum</span></strong
 ><span style="font-size: 10pt;">: 20. / 21. Mai 2017</span></span></p><p st
 yle="margin: 0px 0px 15px; padding: 0px; color: #666666; font-family: Arial
 , Verdana; font-size: 12.8px;"><span style="font-family: arial, helvetica, 
 sans-serif;"><strong><span style="font-size: 10pt;">Austragungsorte</span><
 /strong><span style="font-size: 10pt;">: Rohrdorf, Bayern </span></span></p
 ><p style="margin: 0px 0px 15px; padding: 0px; color: #666666; font-family:
  Arial, Verdana; font-size: 12.8px;"><span style="font-family: arial, helve
 tica, sans-serif;"><strong><span style="font-size: 10pt;">Ausrichter</span>
 </strong><span style="font-size: 10pt;">: Lumberjacks Rohrdorf</span></span
 ></p><p style="margin: 0px 0px 15px; padding: 0px; color: #666666; font-fam
 ily: Arial, Verdana; font-size: 12.8px;"><span style="font-family: arial, h
 elvetica, sans-serif;"><strong><span style="font-size: 10pt;">Teilnahmegebü
 hr</span></strong><span style="font-size: 10pt;">: 190 Euro + 10 Euro pro S
 pieler (inkl. Grillfest-Menü). Da 2017 ausnahmsweise nur in einer Halle ges
 pielt wird, können diesmal 8 Mannschaften antreten (darunter maximal 4 Team
 s aus der Schweiz).</span></span></p><p style="margin: 0px 0px 15px; paddin
 g: 0px; color: #666666; font-family: Arial, Verdana; font-size: 12.8px;"><s
 pan style="font-family: arial, helvetica, sans-serif;"><strong><span style=
 "font-size: 10pt;">Anmeldeschluss</span></strong><span style="font-size: 10
 pt;">: 31. März 2017</span></span></p><p style="margin: 0px 0px 15px; paddi
 ng: 0px; color: #666666; font-family: Arial, Verdana; font-size: 12.8px;"><
 strong style="font-family: arial, helvetica, sans-serif; font-size: 12.8px;
 "><span style="font-size: 10pt;">Verpflegung</span></strong><span style="fo
 nt-size: 10pt;">: In der Halle gibt es einen Verkaufsstand. Dort sind Geträ
 nke, Brotzeit Kuchen, Obst sowie Süßigkeiten erhältlich.</span></p><p style
 ="margin: 0px 0px 5px; padding: 0px; color: #666666; font-family: Arial, Ve
 rdana; font-size: 12.8px;"><span style="font-family: arial, helvetica, sans
 -serif;"><strong><span style="font-size: 10pt;">Versicherung</span></strong
 ><span style="font-size: 10pt;">: Alle Teilnehmer müssen sich selbst um ihr
 en Versicherungsschutz kümmern. Der Ausrichter des Turniers bietet keinen s
 olchen an und ist nicht haftbar im Falle von Verletzungen, Krankheit, Diebs
 tahl oder Sachbeschädigung.</span></span></p> <a href="https://www.swiss-12
 91.ch/events/Eventdetail/44/-/lumberjacks-cup-2017?tmpl=component">Dieser E
 vent wurde importiert von: https://www.swiss-1291.ch/events/Eventdetail/44/
 -/lumberjacks-cup-2017?tmpl=component</a>
CONTACT:www.lumberjacks-cup.de
DTSTAMP:20260419T173918
DTSTART;TZID=Europe/Zurich:20170520T050000
DTEND;TZID=Europe/Zurich:20170521T230000
SEQUENCE:0
TRANSP:OPAQUE
END:VEVENT
END:VCALENDAR