BEGIN:VCALENDAR
VERSION:2.0
PRODID:-//jEvents 2.0 for Joomla//EN
CALSCALE:GREGORIAN
METHOD:PUBLISH
BEGIN:VTIMEZONE
TZID:Europe/Zurich
BEGIN:STANDARD
DTSTART:20161030T020000
RDATE:20170326T030000
TZOFFSETFROM:+0200
TZOFFSETTO:+0100
TZNAME:Europe/Zurich CET
END:STANDARD
BEGIN:STANDARD
DTSTART:20171029T020000
RDATE:20180325T030000
TZOFFSETFROM:+0200
TZOFFSETTO:+0100
TZNAME:Europe/Zurich CET
END:STANDARD
BEGIN:STANDARD
DTSTART:20181028T020000
RDATE:20190331T030000
TZOFFSETFROM:+0200
TZOFFSETTO:+0100
TZNAME:Europe/Zurich CET
END:STANDARD
BEGIN:STANDARD
DTSTART:20191027T020000
RDATE:20200329T030000
TZOFFSETFROM:+0200
TZOFFSETTO:+0100
TZNAME:Europe/Zurich CET
END:STANDARD
BEGIN:STANDARD
DTSTART:20201025T020000
RDATE:20210328T030000
TZOFFSETFROM:+0200
TZOFFSETTO:+0100
TZNAME:Europe/Zurich CET
END:STANDARD
BEGIN:STANDARD
DTSTART:20211031T020000
RDATE:20220327T030000
TZOFFSETFROM:+0200
TZOFFSETTO:+0100
TZNAME:Europe/Zurich CET
END:STANDARD
BEGIN:STANDARD
DTSTART:20221030T020000
RDATE:20230326T030000
TZOFFSETFROM:+0200
TZOFFSETTO:+0100
TZNAME:Europe/Zurich CET
END:STANDARD
BEGIN:STANDARD
DTSTART:20231029T020000
RDATE:20240331T030000
TZOFFSETFROM:+0200
TZOFFSETTO:+0100
TZNAME:Europe/Zurich CET
END:STANDARD
BEGIN:STANDARD
DTSTART:20241027T020000
RDATE:20250330T030000
TZOFFSETFROM:+0200
TZOFFSETTO:+0100
TZNAME:Europe/Zurich CET
END:STANDARD
BEGIN:STANDARD
DTSTART:20251026T020000
RDATE:20260329T030000
TZOFFSETFROM:+0200
TZOFFSETTO:+0100
TZNAME:Europe/Zurich CET
END:STANDARD
BEGIN:STANDARD
DTSTART:20261025T020000
RDATE:20270328T030000
TZOFFSETFROM:+0200
TZOFFSETTO:+0100
TZNAME:Europe/Zurich CET
END:STANDARD
BEGIN:STANDARD
DTSTART:20271031T020000
RDATE:20280326T030000
TZOFFSETFROM:+0200
TZOFFSETTO:+0100
TZNAME:Europe/Zurich CET
END:STANDARD
BEGIN:STANDARD
DTSTART:20281029T020000
RDATE:20290325T030000
TZOFFSETFROM:+0200
TZOFFSETTO:+0100
TZNAME:Europe/Zurich CET
END:STANDARD
BEGIN:STANDARD
DTSTART:20291028T020000
RDATE:20300331T030000
TZOFFSETFROM:+0200
TZOFFSETTO:+0100
TZNAME:Europe/Zurich CET
END:STANDARD
BEGIN:STANDARD
DTSTART:20301027T020000
RDATE:20310330T030000
TZOFFSETFROM:+0200
TZOFFSETTO:+0100
TZNAME:Europe/Zurich CET
END:STANDARD
BEGIN:DAYLIGHT
DTSTART:20160610T090000
RDATE:20161030T020000
TZOFFSETFROM:+0100
TZOFFSETTO:+0200
TZNAME:Europe/Zurich CEST
END:DAYLIGHT
BEGIN:DAYLIGHT
DTSTART:20170326T030000
RDATE:20171029T020000
TZOFFSETFROM:+0100
TZOFFSETTO:+0200
TZNAME:Europe/Zurich CEST
END:DAYLIGHT
BEGIN:DAYLIGHT
DTSTART:20180325T030000
RDATE:20181028T020000
TZOFFSETFROM:+0100
TZOFFSETTO:+0200
TZNAME:Europe/Zurich CEST
END:DAYLIGHT
BEGIN:DAYLIGHT
DTSTART:20190331T030000
RDATE:20191027T020000
TZOFFSETFROM:+0100
TZOFFSETTO:+0200
TZNAME:Europe/Zurich CEST
END:DAYLIGHT
BEGIN:DAYLIGHT
DTSTART:20200329T030000
RDATE:20201025T020000
TZOFFSETFROM:+0100
TZOFFSETTO:+0200
TZNAME:Europe/Zurich CEST
END:DAYLIGHT
BEGIN:DAYLIGHT
DTSTART:20210328T030000
RDATE:20211031T020000
TZOFFSETFROM:+0100
TZOFFSETTO:+0200
TZNAME:Europe/Zurich CEST
END:DAYLIGHT
BEGIN:DAYLIGHT
DTSTART:20220327T030000
RDATE:20221030T020000
TZOFFSETFROM:+0100
TZOFFSETTO:+0200
TZNAME:Europe/Zurich CEST
END:DAYLIGHT
BEGIN:DAYLIGHT
DTSTART:20230326T030000
RDATE:20231029T020000
TZOFFSETFROM:+0100
TZOFFSETTO:+0200
TZNAME:Europe/Zurich CEST
END:DAYLIGHT
BEGIN:DAYLIGHT
DTSTART:20240331T030000
RDATE:20241027T020000
TZOFFSETFROM:+0100
TZOFFSETTO:+0200
TZNAME:Europe/Zurich CEST
END:DAYLIGHT
BEGIN:DAYLIGHT
DTSTART:20250330T030000
RDATE:20251026T020000
TZOFFSETFROM:+0100
TZOFFSETTO:+0200
TZNAME:Europe/Zurich CEST
END:DAYLIGHT
BEGIN:DAYLIGHT
DTSTART:20260329T030000
RDATE:20261025T020000
TZOFFSETFROM:+0100
TZOFFSETTO:+0200
TZNAME:Europe/Zurich CEST
END:DAYLIGHT
BEGIN:DAYLIGHT
DTSTART:20270328T030000
RDATE:20271031T020000
TZOFFSETFROM:+0100
TZOFFSETTO:+0200
TZNAME:Europe/Zurich CEST
END:DAYLIGHT
BEGIN:DAYLIGHT
DTSTART:20280326T030000
RDATE:20281029T020000
TZOFFSETFROM:+0100
TZOFFSETTO:+0200
TZNAME:Europe/Zurich CEST
END:DAYLIGHT
BEGIN:DAYLIGHT
DTSTART:20290325T030000
RDATE:20291028T020000
TZOFFSETFROM:+0100
TZOFFSETTO:+0200
TZNAME:Europe/Zurich CEST
END:DAYLIGHT
BEGIN:DAYLIGHT
DTSTART:20300331T030000
RDATE:20301027T020000
TZOFFSETFROM:+0100
TZOFFSETTO:+0200
TZNAME:Europe/Zurich CEST
END:DAYLIGHT
END:VTIMEZONE
BEGIN:VEVENT
UID:3a808cabfe1b58fddd7b0f2aa8ace744
CATEGORIES:Plauschturniere
CREATED:20170602T152112
SUMMARY:7.Zieschtigs-Club Turnier 2017
URL;VALUE=URI:https://www.swiss-1291.ch/events/Eventdetail/51/-/7-zieschtigs-club-turnier
 -2017?tmpl=component
DESCRIPTION:Datum: Sonntag 11. Juni\nZeit: frühestens ab 9.00Uhr\nOrt: Mehrzweckhalle B
 latt in Tann-Dürnten\nVeranstalter: Plauschteam Zieschtigs-Club in Zusammen
 arbeit mit dem Satus Dürnten\nKategorien: Herren Open (keine Lizenzbeschrän
 kung) Plausch (max. 7 Lizenzpunkte) Mixed (max. 9 Lizenzpunkte)\nLizenzpunk
 te:\n4 Punkte: Herren NLA, NLB, 1.Liga KF\n3 Punkte: Herren 1.Liga GF, 2.Li
 ga KF, 3.Liga KF, U21 A\n2 Punkte: Herren 2.Liga GF, 3.Liga GF, 4.Liga KF, 
 5.Liga KF, U21 B, Damen NLA\n1 Punkt: Damen NLB, 1.Liga GF, 2.Liga GF, 1.Li
 ga KF, 2.Liga KF\nKosten: 60.-Fr. für das Turnier, 5.-Fr. für den Bank BSU 
 Speed-Cup\nSpielzeiten: Ein Spiel dauert 13 Minuten, die letzte Minute wird
  effektiv gestoppt\nPreise: Der Sieger jeder Kategorie erhält einen Pokal p
 lus einen Naturalpreis.\nVerpflegung: Es steht eine Cafeteria mit div. Getr
 änken und Esswaren zu Verfügung.\nVersicherung: Ist Sache der Teilnehmer.\n
  Dieser Event wurde importiert von: https://www.swiss-1291.ch/events/Eventd
 etail/51/-/7-zieschtigs-club-turnier-2017?tmpl=component (https://www.swiss
 -1291.ch/events/Eventdetail/51/-/7-zieschtigs-club-turnier-2017?tmpl=compon
 ent)
X-ALT-DESC;FMTTYPE=text/html:<p><strong>Datum:</strong> Sonntag 11. Juni<br /><strong>Zeit:</strong> frü
 hestens ab 9.00Uhr<br /><strong>Ort:</strong> Mehrzweckhalle Blatt in Tann-
 Dürnten<br /><strong>Veranstalter:</strong> Plauschteam Zieschtigs-Club in 
 Zusammenarbeit mit dem Satus Dürnten<br /><strong>Kategorien:</strong> Herr
 en Open (keine Lizenzbeschränkung) Plausch (max. 7 Lizenzpunkte) Mixed (max
 . 9 Lizenzpunkte)<br /><strong>Lizenzpunkte:</strong></p><p style="padding-
 left: 30px;"><strong>4 Punkte:</strong> Herren NLA, NLB, 1.Liga KF<br /><st
 rong>3 Punkte:</strong> Herren 1.Liga GF, 2.Liga KF, 3.Liga KF, U21 A<br />
 <strong>2 Punkte:</strong> Herren 2.Liga GF, 3.Liga GF, 4.Liga KF, 5.Liga K
 F, U21 B, Damen NLA<br /><strong>1 Punkt:</strong> Damen NLB, 1.Liga GF, 2.
 Liga GF, 1.Liga KF, 2.Liga KF</p><p><strong>Kosten:</strong> 60.-Fr. für da
 s Turnier, 5.-Fr. für den Bank BSU Speed-Cup<br /><strong>Spielzeiten:</str
 ong> Ein Spiel dauert 13 Minuten, die letzte Minute wird effektiv gestoppt<
 br /><strong>Preise:</strong> Der Sieger jeder Kategorie erhält einen Pokal
  plus einen Naturalpreis.<br /><strong>Verpflegung:</strong> Es steht eine 
 Cafeteria mit div. Getränken und Esswaren zu Verfügung.<br /><strong>Versic
 herung:</strong> Ist Sache der Teilnehmer.</p> <a href="https://www.swiss-1
 291.ch/events/Eventdetail/51/-/7-zieschtigs-club-turnier-2017?tmpl=componen
 t">Dieser Event wurde importiert von: https://www.swiss-1291.ch/events/Even
 tdetail/51/-/7-zieschtigs-club-turnier-2017?tmpl=component</a>
DTSTAMP:20260419T173629
DTSTART;TZID=Europe/Zurich:20170611T090000
DTEND;TZID=Europe/Zurich:20170611T170000
SEQUENCE:0
TRANSP:OPAQUE
END:VEVENT
END:VCALENDAR